BEGIN:VCALENDAR
VERSION:2.0
PRODID:-//eventon.com NONSGML v1.0//EN
CALSCALE:GREGORIAN
METHOD:PUBLISH
BEGIN:VEVENT
UID:69e549e96a7be
DTSTAMP:20260419T213225Z
DTSTART:20241001
DTEND:20241002
LOCATION:
SUMMARY:Illawarra Register Run to Graham Lord's Workshop
DESCRIPTION:Illawarra Register Run to Graham Lord's Workshop\nhttps://www.m
 gcarclubsydney.com.au/mg-car-club-events-calendar/illawarra-register-run-to
 -graham-lords-workshop/
URL:https://www.mgcarclubsydney.com.au/mg-car-club-events-calendar/illawarra-register-run-to-graham-lords-workshop/
END:VEVENT
END:VCALENDAR