BEGIN:VCALENDAR
VERSION:2.0
PRODID:-//eventon.com NONSGML v1.0//EN
CALSCALE:GREGORIAN
METHOD:PUBLISH
BEGIN:VEVENT
UID:69e4d7e605032
DTSTAMP:20260419T132558Z
DTSTART:20200927
DTEND:20200928
LOCATION:
SUMMARY:September 2020 MG Car Club Sydney Run
DESCRIPTION:September 2020 MG Car Club Sydney Run\nhttps://www.mgcarclubsyd
 ney.com.au/mg-car-club-events-calendar/september-2020-mg-car-club-sydney-ru
 n/
URL:https://www.mgcarclubsydney.com.au/mg-car-club-events-calendar/september-2020-mg-car-club-sydney-run/
END:VEVENT
END:VCALENDAR