BEGIN:VCALENDAR
VERSION:2.0
PRODID:-//eventon.com NONSGML v1.0//EN
CALSCALE:GREGORIAN
METHOD:PUBLISH
BEGIN:VEVENT
UID:69e747474c56f
DTSTAMP:20260421T094543Z
DTSTART:20210918
DTEND:20210919
LOCATION:Wakefield Park 4770 Braidwood Rd
SUMMARY:CSCA 2021 Round Six at Wakefield Park
DESCRIPTION:CSCA 2021 round six has been cancelled due to the ongoing COVID
 19 outbreak.\nhttps://www.mgcarclubsydney.com.au/mg-car-club-events-calenda
 r/csca-2021-round-six-at-wakefield-park/
URL:https://www.mgcarclubsydney.com.au/mg-car-club-events-calendar/csca-2021-round-six-at-wakefield-park/
END:VEVENT
END:VCALENDAR