BEGIN:VCALENDAR
VERSION:2.0
PRODID:-//eventon.com NONSGML v1.0//EN
CALSCALE:GREGORIAN
METHOD:PUBLISH
BEGIN:VEVENT
UID:69e4e6a9d4afb
DTSTAMP:20260419T142857Z
DTSTART:20220306
DTEND:20220307
LOCATION:
SUMMARY:March 2022 Club Run to the Barlow Museum
DESCRIPTION:Unfortunately\,  due to the ongoing rain\,  our run to the Barl
 ow Museum\,  previously planned for this Sunday\,  the 6th of March\,  has 
 had to be postponed. The significant rain we have had recently is forecast 
 to continue well into next week\,  including next Sunday. As a number of th
 e exhibits[..]\nhttps://www.mgcarclubsydney.com.au/mg-car-club-events-calen
 dar/march-2022-club-run-hosted-by-the-mgb-registrar/
URL:https://www.mgcarclubsydney.com.au/mg-car-club-events-calendar/march-2022-club-run-hosted-by-the-mgb-registrar/
END:VEVENT
END:VCALENDAR